BEGIN:VCALENDAR
VERSION:2.0
PRODID:-//Roys Hall - ECPv6.15.20//NONSGML v1.0//EN
CALSCALE:GREGORIAN
METHOD:PUBLISH
X-ORIGINAL-URL:https://royshall.org
X-WR-CALDESC:Events for Roys Hall
REFRESH-INTERVAL;VALUE=DURATION:PT1H
X-Robots-Tag:noindex
X-PUBLISHED-TTL:PT1H
BEGIN:VTIMEZONE
TZID:America/New_York
BEGIN:DAYLIGHT
TZOFFSETFROM:-0500
TZOFFSETTO:-0400
TZNAME:EDT
DTSTART:20210314T070000
END:DAYLIGHT
BEGIN:STANDARD
TZOFFSETFROM:-0400
TZOFFSETTO:-0500
TZNAME:EST
DTSTART:20211107T060000
END:STANDARD
BEGIN:DAYLIGHT
TZOFFSETFROM:-0500
TZOFFSETTO:-0400
TZNAME:EDT
DTSTART:20220313T070000
END:DAYLIGHT
BEGIN:STANDARD
TZOFFSETFROM:-0400
TZOFFSETTO:-0500
TZNAME:EST
DTSTART:20221106T060000
END:STANDARD
BEGIN:DAYLIGHT
TZOFFSETFROM:-0500
TZOFFSETTO:-0400
TZNAME:EDT
DTSTART:20230312T070000
END:DAYLIGHT
BEGIN:STANDARD
TZOFFSETFROM:-0400
TZOFFSETTO:-0500
TZNAME:EST
DTSTART:20231105T060000
END:STANDARD
END:VTIMEZONE
BEGIN:VEVENT
DTSTART;TZID=America/New_York:20221028T200000
DTEND;TZID=America/New_York:20221028T200000
DTSTAMP:20260423T181415
CREATED:20220614T181533Z
LAST-MODIFIED:20221024T014500Z
UID:5703-1666987200-1666987200@royshall.org
SUMMARY:An Evening with Eric Andersen - The Folk Legend in Concert
DESCRIPTION:Eric Andersen has maintained a career as a folk-based singer/songwriter since the 1960s. In contrast to such peers as Tom Paxton and Phil Ochs\, Andersen’s writing has had a romantic/philosophical/poetic bent for the most part\, rather than a socially conscious one\, though one of his best-known songs\, “Thirsty Boots\,” is about the Freedom Riders in the early ’60s. (The song has been recorded by Judy Collins and others.) \n \n \nWatch ‘The Songpoet’ on PBS – The Eric Andersen Story\n \nToday Is the Highway\nAfter emerging from the Northeast folk-club circuit\, Andersen began to record in 1965 with Today Is the Highway. His second album\, ‘Bout Changes & Things\, contained some of his most accomplished writing\, including the highly poetic “Violets of Dawn\,” “Thirsty Boots\,” and “I Shall Go Unbounded.” All were sung in Andersen’s flexible tenor (he shaded toward a baritone later) backed by rapid\, intricate fingerpicking. In the late ’60s and early ’70s\, Andersen experimented with country\, pop\, and rock music\, settling on an amalgamation by the time of his masterpiece Blue River in 1972. This was also his most commercially successful album\, but Andersen\, like friends Leonard Cohen and Townes Van Zandt\, was always too serious-minded for the mainstream. In the ’70s and ’80s\, he recorded sporadically while playing folk clubs around the U.S. and especially in Europe\, where he took up residence. His later material\, including 1989’s Ghosts Upon the Road\, recalls his work in the ’60s as it ruefully reflects on that decade. The ’90s saw Andersen collaborate with friends like Rick Danko and Jonas Fjeld on Danko/Fjeld/Andersen\, as well as release a solo album\, 1998’s Memory of the Future; Andersen also oversaw the release of Stages: The Lost Album\, and a 1999 reissue of Blue River. You Can’t Relive the Past. Beat Avenue\, from 2003\, was an ambitious double-CD while 2004’s The Street Was Always There was a nostalgic look back at the music of the New York Greenwich Village scene of the early to mid-’60s. 2005’s Waves was another album of covers\, but with broader material. Andersen released Blue Rain\, his first live album\, in May 2007. That same year\, the compilation So Much on My Mind was issued. The set drew on both catalog tracks and live performances and was issued on Columbia\, Arista\, and Warner Brothers. \n \nAndersen continued to tour and take part in significant cultural events. In 2008\, he performed at the Andy Warhol Week Celebration at the Gershwin Hotel (Debbie Harry played the same evening) and received an “Andy” award — other recipients included Lou Reed\, Ultra Violet\, Billy Name\, and Holly Woodlawn. The following year he performed on the BBC program Greenwich Village Revisited\, hosted by Billy Bragg; other guests included Carolyn Hester\, Roger McGuinn\, and Judy Collins. Andersen also took part in the international celebrations centering around the 50th anniversary of the publication of William Burroughs’ Naked Lunch. He contributed an essay entitled “The Danger Zone” to the volume Naked Lunch @ 50: The Anniversary Essays\, edited by Oliver Harris and Ian MacFadyen and published by the Southern Illinois University Press. \nThe Cologne Concert\nIn 2011\, Andersen issued his second live offering\, The Cologne Concert\, through Meyer Records. Along with deep catalog material\, the set offered a pair of new songs in “The Dance of Love and Death” and “Sinking Deeper Into You.” In May of 2012 he became a member of the newly created European Beat Studies Network under the auspices of William S. Burroughs scholar Oliver Harris. That fall\, he was commissioned by Catherine Camus to write original material for the centennial celebration of her father Albert Camus’ 100th birthday in Aix en Provence\, France. Andersen delivered a song cycle entitled The Shadow and Light of Albert Camus\, recorded and released through Meyer in 2014. \nMingle With the Universe: The Worlds of Lord Byron\nOn September 3\, 2015 Andersen took part in a V.I.P. charity concert in Grand Hall at Newstead Abbey Park\, the ancestral home of the poet Lord Byron in Ravenshead\, Nottingham\, U.K. (in Sherwood Forest). Andersen played music he set to Byron’s verse and offered entirely new compositions in the poet’s rhyme style. This project was written and developed over the previous two years. Andersen later recorded the songs and issued them as Mingle with the Universe: The Worlds of Lord Byron in the spring of 2017. \nArtist Biography by William Ruhlmann – Allmusic.com!
URL:https://royshall.org/event/eric-andersen-221028/
LOCATION:Roy’s Hall\, 30 Main St\, Blairstown\, NJ\, 07825\, United States
CATEGORIES:Music
ATTACH;FMTTYPE=image/jpeg:https://royshall.org/wp-content/uploads/2022/06/Eric-Andersen-10.28.22.jpg
ORGANIZER;CN="Blairstown Live-Arts%2C Inc.":MAILTO:boxoffice@royshall.org
END:VEVENT
BEGIN:VEVENT
DTSTART;TZID=America/New_York:20221022T200000
DTEND;TZID=America/New_York:20221022T200000
DTSTAMP:20260423T181415
CREATED:20220614T193631Z
LAST-MODIFIED:20221018T111240Z
UID:5719-1666468800-1666468800@royshall.org
SUMMARY:DEADGRASS - A string band adventure through Jerry Garcia's musical world.
DESCRIPTION:Deadgrass\nMatt Turk and C Lanzbom joined forces to form Deadgrass\, a string band adventure through Jerry Garcia’s musical world. Bassist Dave Richards\, banjo player Boo Reiners and fiddler Jeremy Brown complete this fine group of seasoned pros exploring the life works of Jerry Garcia on the instruments that first inspired him. Deadgrass celebrates and interprets the music of Jerry Garcia\, drawing from Old & in the Way\, JGB\, Jerry’s Jug Band days and the Grateful Dead. \n \nA seasoned recording artist and multi-instrumentalist\, Matt Turk is a veteran performer who has performed and recorded with Pete Seeger\, opened for Judy Collins\, The Doobie Brothers\, Fiona Apple and the Grateful Dead’s Mickey Hart. He has performed at the Clearwater Festival\, Gathering of the Vibes\, Atlanta’s Music Midtown\, Jazz at Lincoln Center and The Beacon Theatre. Matt has recorded for Warner Bros Records with Gaby Moreno & Matter Music. \nGrammy award winner C Lanzbom is a touring and studio guitarist withproducing\, performing\, writing and engineering credits with Pete Seeger\, Bruce Springsteen\, Crystal Bowersox\, Shlomo Carlebach and Soulfarm. C’s studio\, Sherwood Ridge\, is a state of the art recording facility just north of New York City. C has numerous television and film song placements. \nBassist Dave Richards performs in Hamilton on Broadway and hasrecorded and performed with The Indigo Girls\, Rosanne Cash\, Buster Poindexter\, Madeline Peyroux\, Jewel and Richie Havens. He has toured throughout Europe\, Canada and the USA\, appearing at Ottawa Jazz\, Toronto Blues festival\, The Hollywood Bowl and Austin City Limits. At the age of 17 Dave was playing jazz five nights a week in Orlando\, Florida with Billy Peebles\, the drummer for Ray Charles on many classic Atlantic recordings. \nBanjo player Boo Reiners is a multi-instrumentalist who has performed\, recorded\, filmed and toured with Dispatch\, Phil Lesh\, Al Kooper\, Pete Seeger\, Charlie Louvin\, Steve Martin\, Tony Trischka\, Michael Moore\, Amy Poehler\, Natalie Merchant\, Martin Sexton\, and many others. In the studio and on tour with world music pioneers The Klezmatics\, he helped the group to win their 2007 Grammy Award for “Wonder Wheel: Lyrics By Woody Guthrie.” \nJazz violinist Kensuke Shoji was born in Gifu\, Japan. He joined his father’s bluegrass band as a teenager. As a young adult he moved to the U.S.A. to study jazz violin with Berklee String Department chair Matt Glaser\, and world renowned violinist Christian Howes. Dedicated to improvisation\, Kensuke moved to New York City in 2013 to play with Alex Hargreaves\, Barry Harris\, Jacob Jolliff\, Maria Muldaur and more.
URL:https://royshall.org/event/deadgrass/
CATEGORIES:Music
ATTACH;FMTTYPE=image/jpeg:https://royshall.org/wp-content/uploads/2022/06/DEADGRASS-10.22.22.jpg
ORGANIZER;CN="Blairstown Live-Arts%2C Inc.":MAILTO:boxoffice@royshall.org
END:VEVENT
END:VCALENDAR